BEGIN:VCALENDAR
VERSION:2.0
PRODID:-//Geethanjali
CALSCALE:GREGORIAN
METHOD:PUBLISH
X-WR-CALNAME:Geethanjali
X-ORIGINAL-URL:https://gist.edu.in/gist/event/gist-as-remote-center-of-iitbombay/
X-WR-CALDESC:GIST as Remote Center of IITBombay
BEGIN:VEVENT
DTSTART:
DTEND:
SUMMARY:GIST as Remote Center of IITBombay
DESCRIPTION:Remote Center of IITBombay
LOCATION:
END:VEVENT
END:VCALENDAR
