BEGIN:VCALENDAR
VERSION:2.0
PRODID:-//Geethanjali
CALSCALE:GREGORIAN
METHOD:PUBLISH
X-WR-CALNAME:Geethanjali
X-ORIGINAL-URL:https://gist.edu.in/gist/event/ncetec/
X-WR-CALDESC:NCETEC
BEGIN:VEVENT
DTSTART:20130420T000000
DTEND:20130420T000000
SUMMARY:NCETEC
DESCRIPTION:A National Conference on Emerging Trends in Electronics and Communication Engineering
LOCATION:
END:VEVENT
END:VCALENDAR
