BEGIN:VCALENDAR
VERSION:2.0
PRODID:-//Geethanjali
CALSCALE:GREGORIAN
METHOD:PUBLISH
X-WR-CALNAME:Geethanjali
X-ORIGINAL-URL:https://gist.edu.in/gist/event/3994/
X-WR-CALDESC:Two Week FDP in Entrepreneurship Development
BEGIN:VEVENT
DTSTART:20140303T100000
DTEND:20140315T163000
SUMMARY:Two Week FDP in Entrepreneurship Development
DESCRIPTION:
LOCATION:
END:VEVENT
END:VCALENDAR
