BEGIN:VCALENDAR
VERSION:2.0
PRODID:-//Geethanjali
CALSCALE:GREGORIAN
METHOD:PUBLISH
X-WR-CALNAME:Geethanjali
X-ORIGINAL-URL:https://gist.edu.in/gist/event/gistn-android-app/
X-WR-CALDESC:GISTN Android APP
BEGIN:VEVENT
DTSTART:20150924T150000
DTEND:20150924T160000
SUMMARY:GISTN Android APP
DESCRIPTION:
LOCATION:
END:VEVENT
END:VCALENDAR
