BEGIN:VCALENDAR
VERSION:2.0
PRODID:-//Geethanjali
CALSCALE:GREGORIAN
METHOD:PUBLISH
X-WR-CALNAME:Geethanjali
X-ORIGINAL-URL:https://gist.edu.in/gist/event/industrial-visit-to-apgenco/
X-WR-CALDESC:Industrial Visit to APGENCO
BEGIN:VEVENT
DTSTART:20150905T000000
DTEND:
SUMMARY:Industrial Visit to APGENCO
DESCRIPTION:Industrial Visit to APGENCO
LOCATION:
END:VEVENT
END:VCALENDAR
