BEGIN:VCALENDAR
VERSION:2.0
PRODID:-//Geethanjali
CALSCALE:GREGORIAN
METHOD:PUBLISH
X-WR-CALNAME:Geethanjali
X-ORIGINAL-URL:https://gist.edu.in/gist/event/two-day-workshop-on-ethical-hacking/
X-WR-CALDESC:Two day Workshop on Ethical Hacking
BEGIN:VEVENT
DTSTART:20151010T100000
DTEND:20151011T170000
SUMMARY:Two day Workshop on Ethical Hacking
DESCRIPTION:Two day Workshop on Ethical Hacking
LOCATION:
END:VEVENT
END:VCALENDAR
