BEGIN:VCALENDAR
VERSION:2.0
PRODID:-//Geethanjali
CALSCALE:GREGORIAN
METHOD:PUBLISH
X-WR-CALNAME:Geethanjali
X-ORIGINAL-URL:https://gist.edu.in/gist/event/gist-csi-student-chapter/
X-WR-CALDESC:GIST CSI Student Chapter
BEGIN:VEVENT
DTSTART:
DTEND:
SUMMARY:GIST CSI Student Chapter
DESCRIPTION:CSI Student Chapter
LOCATION:
END:VEVENT
END:VCALENDAR
