BEGIN:VCALENDAR
VERSION:2.0
PRODID:-//Geethanjali
CALSCALE:GREGORIAN
METHOD:PUBLISH
X-WR-CALNAME:Geethanjali
X-ORIGINAL-URL:https://gist.edu.in/gist/event/spoken-tutorials-under-iit-bombay/
X-WR-CALDESC:Spoken Tutorials Under IIT Bombay
BEGIN:VEVENT
DTSTART:
DTEND:
SUMMARY:Spoken Tutorials Under IIT Bombay
DESCRIPTION:Spoken Tutorials
LOCATION:
END:VEVENT
END:VCALENDAR
