BEGIN:VCALENDAR
VERSION:2.0
PRODID:-//Geethanjali
CALSCALE:GREGORIAN
METHOD:PUBLISH
X-WR-CALNAME:Geethanjali
X-ORIGINAL-URL:https://gist.edu.in/gist/event/january-1st-celebrations/
X-WR-CALDESC:January 1st Celebrations
BEGIN:VEVENT
DTSTART:20160101T000000
DTEND:
SUMMARY:January 1st Celebrations
DESCRIPTION:
LOCATION:
END:VEVENT
END:VCALENDAR
