BEGIN:VCALENDAR
VERSION:2.0
PRODID:-//Geethanjali
CALSCALE:GREGORIAN
METHOD:PUBLISH
X-WR-CALNAME:Geethanjali
X-ORIGINAL-URL:https://gist.edu.in/gist/event/cse-dept-certificates-distribution-on-annual-day/
X-WR-CALDESC:Cse Dept. Certificates distribution on Annual day
BEGIN:VEVENT
DTSTART:
DTEND:
SUMMARY:Cse Dept. Certificates distribution on Annual day
DESCRIPTION:
LOCATION:
END:VEVENT
END:VCALENDAR
