BEGIN:VCALENDAR
VERSION:2.0
PRODID:-//Geethanjali
CALSCALE:GREGORIAN
METHOD:PUBLISH
X-WR-CALNAME:Geethanjali
X-ORIGINAL-URL:https://gist.edu.in/gist/event/news-board-inauguration/
X-WR-CALDESC:News Board Inauguration
BEGIN:VEVENT
DTSTART:
DTEND:
SUMMARY:News Board Inauguration
DESCRIPTION:News Board Inauguration
LOCATION:
END:VEVENT
END:VCALENDAR
