BEGIN:VCALENDAR
VERSION:2.0
PRODID:-//Geethanjali
CALSCALE:GREGORIAN
METHOD:PUBLISH
X-WR-CALNAME:Geethanjali
X-ORIGINAL-URL:https://gist.edu.in/gist/event/iucee-research-cluster-webinar-on-cloud-computing/
X-WR-CALDESC:IUCEE Research Cluster webinar on Cloud Computing
BEGIN:VEVENT
DTSTART:
DTEND:
SUMMARY:IUCEE Research Cluster webinar on Cloud Computing
DESCRIPTION:IUCEE Research Cluster webinar
LOCATION:
END:VEVENT
END:VCALENDAR
