BEGIN:VCALENDAR
VERSION:2.0
PRODID:-//Geethanjali
CALSCALE:GREGORIAN
METHOD:PUBLISH
X-WR-CALNAME:Geethanjali
X-ORIGINAL-URL:https://gist.edu.in/gist/event/workshop-on-trends-in-mobile-computing-internet-of-things-cyber-physical-systems/
X-WR-CALDESC:Workshop on Trends in Mobile Computing, Internet of Things &#038; Cyber Physical Systems
BEGIN:VEVENT
DTSTART:20160413T000000
DTEND:
SUMMARY:Workshop on Trends in Mobile Computing, Internet of Things &#038; Cyber Physical Systems
DESCRIPTION:Workshop on Trends in Mobile Computing, Internet of Things & Cyber Physical Systems on 13th April,2016
LOCATION:
END:VEVENT
END:VCALENDAR
