BEGIN:VCALENDAR
VERSION:2.0
PRODID:-//Geethanjali
CALSCALE:GREGORIAN
METHOD:PUBLISH
X-WR-CALNAME:Geethanjali
X-ORIGINAL-URL:https://gist.edu.in/gist/event/gistechfest-2k15/
X-WR-CALDESC:GISTECHFEST-2K15
BEGIN:VEVENT
DTSTART:20150319T000000
DTEND:20150319T000000
SUMMARY:GISTECHFEST-2K15
DESCRIPTION:
LOCATION:GIST Campus
END:VEVENT
END:VCALENDAR
