BEGIN:VCALENDAR
VERSION:2.0
PRODID:-//Geethanjali
CALSCALE:GREGORIAN
METHOD:PUBLISH
X-WR-CALNAME:Geethanjali
X-ORIGINAL-URL:https://gist.edu.in/gist/event/southzone/
X-WR-CALDESC:GIST Students selected for Kabaddi South Zone Competitions
BEGIN:VEVENT
DTSTART:20151219T000000
DTEND:20151219T000000
SUMMARY:GIST Students selected for Kabaddi South Zone Competitions
DESCRIPTION:
LOCATION:GIST Campus
END:VEVENT
END:VCALENDAR
