BEGIN:VCALENDAR
VERSION:2.0
PRODID:-//Geethanjali
CALSCALE:GREGORIAN
METHOD:PUBLISH
X-WR-CALNAME:Geethanjali
X-ORIGINAL-URL:https://gist.edu.in/gist/event/the-national-science-day-28-02-2026/
X-WR-CALDESC:The National Science Day 28-02-2026
BEGIN:VEVENT
DTSTART:
DTEND:
SUMMARY:The National Science Day 28-02-2026
DESCRIPTION:The National Science Day 28-02-2026 
LOCATION:
END:VEVENT
END:VCALENDAR
