BEGIN:VCALENDAR
VERSION:2.0
PRODID:-//Geethanjali
CALSCALE:GREGORIAN
METHOD:PUBLISH
X-WR-CALNAME:Geethanjali
X-ORIGINAL-URL:https://gist.edu.in/gist/event/report-on-value-added-course-applied-python-for-problem-solving/
X-WR-CALDESC:Report on Value Added Course “Applied Python for Problem Solving”
BEGIN:VEVENT
DTSTART:
DTEND:
SUMMARY:Report on Value Added Course “Applied Python for Problem Solving”
DESCRIPTION:Report on Value Added Course “Applied Python for Problem Solving”
LOCATION:
END:VEVENT
END:VCALENDAR
