BEGIN:VCALENDAR
VERSION:2.0
PRODID:-//Geethanjali
CALSCALE:GREGORIAN
METHOD:PUBLISH
X-WR-CALNAME:Geethanjali
X-ORIGINAL-URL:https://gist.edu.in/gist/event/report-on-value-added-course-problem-solving-skills-in-python/
X-WR-CALDESC:Report on Value Added Course “PROBLEM SOLVING SKILLS IN PYTHON”
BEGIN:VEVENT
DTSTART:
DTEND:
SUMMARY:Report on Value Added Course “PROBLEM SOLVING SKILLS IN PYTHON”
DESCRIPTION:Report on Value Added Course “PROBLEM SOLVING SKILLS IN PYTHON”
LOCATION:
END:VEVENT
END:VCALENDAR
