BEGIN:VCALENDAR
VERSION:2.0
PRODID:-//Geethanjali
CALSCALE:GREGORIAN
METHOD:PUBLISH
X-WR-CALNAME:Geethanjali
X-ORIGINAL-URL:https://gist.edu.in/gist/event/report-on-guest-lecture-ai-in-cloud-paltforms-aws-azure-and-google-ai-tools/
X-WR-CALDESC:Report on Guest Lecture “AI IN CLOUD PALTFORMS: AWS, AZURE AND GOOGLE AI TOOLS”
BEGIN:VEVENT
DTSTART:
DTEND:
SUMMARY:Report on Guest Lecture “AI IN CLOUD PALTFORMS: AWS, AZURE AND GOOGLE AI TOOLS”
DESCRIPTION:Report on Guest Lecture “AI IN CLOUD PALTFORMS: AWS, AZURE AND GOOGLE AI TOOLS”
LOCATION:
END:VEVENT
END:VCALENDAR
