BEGIN:VCALENDAR
VERSION:2.0
PRODID:-//Geethanjali
CALSCALE:GREGORIAN
METHOD:PUBLISH
X-WR-CALNAME:Geethanjali
X-ORIGINAL-URL:https://gist.edu.in/gist/event/report-on-workshop-data-analysis-using-python-2/
X-WR-CALDESC: Report on Workshop: Data Analysis Using Python
BEGIN:VEVENT
DTSTART:
DTEND:
SUMMARY: Report on Workshop: Data Analysis Using Python
DESCRIPTION: Report on Workshop: Data Analysis Using Python
LOCATION:
END:VEVENT
END:VCALENDAR
