BEGIN:VCALENDAR
VERSION:2.0
PRODID:-//Geethanjali
CALSCALE:GREGORIAN
METHOD:PUBLISH
X-WR-CALNAME:Geethanjali
X-ORIGINAL-URL:https://gist.edu.in/gist/event/report-on-guest-lecture-the-building-blocks-of-ai-ml-and-dl/
X-WR-CALDESC:Report on Guest Lecture “THE BUILDING BLOCKS OF AI: ML AND DL”
BEGIN:VEVENT
DTSTART:
DTEND:
SUMMARY:Report on Guest Lecture “THE BUILDING BLOCKS OF AI: ML AND DL”
DESCRIPTION:Report on Guest Lecture “THE BUILDING BLOCKS OF AI: ML AND DL”
LOCATION:
END:VEVENT
END:VCALENDAR
