BEGIN:VCALENDAR
VERSION:2.0
PRODID:-//Geethanjali
CALSCALE:GREGORIAN
METHOD:PUBLISH
X-WR-CALNAME:Geethanjali
X-ORIGINAL-URL:https://gist.edu.in/gist/event/guest-lecture-report-on-trends-in-advanced-vlsi-design-career-opportunities/
X-WR-CALDESC:Guest Lecture Report  on “Trends in Advanced VLSI Design – Career Opportunities”
BEGIN:VEVENT
DTSTART:
DTEND:
SUMMARY:Guest Lecture Report  on “Trends in Advanced VLSI Design – Career Opportunities”
DESCRIPTION:Guest Lecture Report

on “Trends in Advanced VLSI Design – Career Opportunities”
LOCATION:
END:VEVENT
END:VCALENDAR
