BEGIN:VCALENDAR
VERSION:2.0
PRODID:-//Geethanjali
CALSCALE:GREGORIAN
METHOD:PUBLISH
X-WR-CALNAME:Geethanjali
X-ORIGINAL-URL:https://gist.edu.in/gist/event/report-on-industrial-visit-to-srisailam-power-house/
X-WR-CALDESC:REPORT ON INDUSTRIAL VISIT  TO  SRISAILAM POWER HOUSE
BEGIN:VEVENT
DTSTART:
DTEND:
SUMMARY:REPORT ON INDUSTRIAL VISIT  TO  SRISAILAM POWER HOUSE
DESCRIPTION:REPORT ON INDUSTRIAL VISIT TO SRISAILAM POWER HOUSE
LOCATION:
END:VEVENT
END:VCALENDAR
