BEGIN:VCALENDAR
VERSION:2.0
PRODID:-//Geethanjali
CALSCALE:GREGORIAN
METHOD:PUBLISH
X-WR-CALNAME:Geethanjali
X-ORIGINAL-URL:https://gist.edu.in/gist/event/report-on-industrial-visit-to-sdstps-nelatur-thermal-power-station/
X-WR-CALDESC:REPORT  ON   INDUSTRIAL VISIT  TO  SDSTPS Nelatur Thermal Power Station
BEGIN:VEVENT
DTSTART:
DTEND:
SUMMARY:REPORT  ON   INDUSTRIAL VISIT  TO  SDSTPS Nelatur Thermal Power Station
DESCRIPTION:REPORT  ON   INDUSTRIAL VISIT  TO  SDSTPS Nelatur Thermal Power Station
LOCATION:
END:VEVENT
END:VCALENDAR
