BEGIN:VCALENDAR
VERSION:2.0
PRODID:-//Geethanjali
CALSCALE:GREGORIAN
METHOD:PUBLISH
X-WR-CALNAME:Geethanjali
X-ORIGINAL-URL:https://gist.edu.in/gist/event/report-on-career-guidance-program-exploring-opportunities-through-gate-jam/
X-WR-CALDESC:Report  on  Career Guidance Program  “Exploring Opportunities through GATE &#038; JAM”
BEGIN:VEVENT
DTSTART:
DTEND:
SUMMARY:Report  on  Career Guidance Program  “Exploring Opportunities through GATE &#038; JAM”
DESCRIPTION:Report  on  Career Guidance Program  “Exploring Opportunities through GATE & JAM”
LOCATION:
END:VEVENT
END:VCALENDAR
