BEGIN:VCALENDAR
VERSION:2.0
PRODID:-//Geethanjali
CALSCALE:GREGORIAN
METHOD:PUBLISH
X-WR-CALNAME:Geethanjali
X-ORIGINAL-URL:https://gist.edu.in/gist/event/parent-teacher-meeting-ptm-report/
X-WR-CALDESC:Parent-Teacher Meeting (PTM) Report
BEGIN:VEVENT
DTSTART:
DTEND:
SUMMARY:Parent-Teacher Meeting (PTM) Report
DESCRIPTION:Parent-Teacher Meeting (PTM) Report
LOCATION:
END:VEVENT
END:VCALENDAR
