BEGIN:VCALENDAR
VERSION:2.0
PRODID:-//Geethanjali
CALSCALE:GREGORIAN
METHOD:PUBLISH
X-WR-CALNAME:Geethanjali
X-ORIGINAL-URL:https://gist.edu.in/gist/event/report-of-guest-lecture-on-ai-is-not-the-future-it-is-the-present/
X-WR-CALDESC:Report of Guest Lecture on “AI IS NOT THE FUTURE, IT IS THE PRESENT”
BEGIN:VEVENT
DTSTART:
DTEND:
SUMMARY:Report of Guest Lecture on “AI IS NOT THE FUTURE, IT IS THE PRESENT”
DESCRIPTION:Report of Guest Lecture on “AI IS NOT THE FUTURE, IT IS THE PRESENT”
LOCATION:
END:VEVENT
END:VCALENDAR
