BEGIN:VCALENDAR
VERSION:2.0
PRODID:-//Geethanjali
CALSCALE:GREGORIAN
METHOD:PUBLISH
X-WR-CALNAME:Geethanjali
X-ORIGINAL-URL:https://gist.edu.in/gist/event/23287/
X-WR-CALDESC:Report of an online FDP on “POWER BI &#038; TABLEAU”
BEGIN:VEVENT
DTSTART:
DTEND:
SUMMARY:Report of an online FDP on “POWER BI &#038; TABLEAU”
DESCRIPTION:Report of an online FDP on “POWER BI & TABLEAU”
LOCATION:
END:VEVENT
END:VCALENDAR
