BEGIN:VCALENDAR
VERSION:2.0
PRODID:-//Geethanjali
CALSCALE:GREGORIAN
METHOD:PUBLISH
X-WR-CALNAME:Geethanjali
X-ORIGINAL-URL:https://gist.edu.in/gist/event/23263/
X-WR-CALDESC:Orientation Programme (18th August 2025) IstB.Tech 2025-2026
BEGIN:VEVENT
DTSTART:
DTEND:
SUMMARY:Orientation Programme (18th August 2025) IstB.Tech 2025-2026
DESCRIPTION:Orientation Programme (18th August 2025)
IstB.Tech 2025-2026
LOCATION:
END:VEVENT
END:VCALENDAR
