BEGIN:VCALENDAR
VERSION:2.0
PRODID:-//Geethanjali
CALSCALE:GREGORIAN
METHOD:PUBLISH
X-WR-CALNAME:Geethanjali
X-ORIGINAL-URL:https://gist.edu.in/gist/event/motivational-speech-on-universal-human-values-report/
X-WR-CALDESC:Motivational Speech  on  Universal Human Values Report
BEGIN:VEVENT
DTSTART:
DTEND:
SUMMARY:Motivational Speech  on  Universal Human Values Report
DESCRIPTION:Motivational Speech on Universal Human Values Report
LOCATION:
END:VEVENT
END:VCALENDAR
