BEGIN:VCALENDAR
VERSION:2.0
PRODID:-//Geethanjali
CALSCALE:GREGORIAN
METHOD:PUBLISH
X-WR-CALNAME:Geethanjali
X-ORIGINAL-URL:https://gist.edu.in/gist/event/awareness-programme-on-universal-human-values-and-personality-development-at-geethanjali-institute-of-science-and-technology/
X-WR-CALDESC:Awareness Programme on Universal Human Values and Personality Development at Geethanjali Institute of Science and Technology
BEGIN:VEVENT
DTSTART:
DTEND:
SUMMARY:Awareness Programme on Universal Human Values and Personality Development at Geethanjali Institute of Science and Technology
DESCRIPTION:Awareness Programme on Universal Human Values and Personality Development at Geethanjali Institute of Science and Technology
LOCATION:
END:VEVENT
END:VCALENDAR
