BEGIN:VCALENDAR
VERSION:2.0
PRODID:-//Geethanjali
CALSCALE:GREGORIAN
METHOD:PUBLISH
X-WR-CALNAME:Geethanjali
X-ORIGINAL-URL:https://gist.edu.in/gist/event/report-on-industrial-visit-to-satish-dhawan-space-centre-sdsc-shar-sriharikota/
X-WR-CALDESC:Report on Industrial Visit to Satish Dhawan Space Centre (SDSC) SHAR, Sriharikota
BEGIN:VEVENT
DTSTART:
DTEND:
SUMMARY:Report on Industrial Visit to Satish Dhawan Space Centre (SDSC) SHAR, Sriharikota
DESCRIPTION:Report on Industrial Visit to Satish Dhawan Space Centre (SDSC) SHAR, Sriharikota
LOCATION:
END:VEVENT
END:VCALENDAR
