BEGIN:VCALENDAR
VERSION:2.0
PRODID:-//Geethanjali
CALSCALE:GREGORIAN
METHOD:PUBLISH
X-WR-CALNAME:Geethanjali
X-ORIGINAL-URL:https://gist.edu.in/gist/event/a-report-on-a-week-long-embedde-systems-and-industrial-iot-workshop/
X-WR-CALDESC:A REPORT ON A WEEK-LONG EMBEDDE SYSTEMS AND INDUSTRIAL IOT WORKSHOP
BEGIN:VEVENT
DTSTART:
DTEND:
SUMMARY:A REPORT ON A WEEK-LONG EMBEDDE SYSTEMS AND INDUSTRIAL IOT WORKSHOP
DESCRIPTION:A
REPORT ON
A WEEK-LONG EMBEDDE SYSTEMS AND INDUSTRIAL IOT WORKSHOP

LOCATION:
END:VEVENT
END:VCALENDAR
