BEGIN:VCALENDAR
VERSION:2.0
PRODID:-//Geethanjali
CALSCALE:GREGORIAN
METHOD:PUBLISH
X-WR-CALNAME:Geethanjali
X-ORIGINAL-URL:https://gist.edu.in/gist/event/report-on-national-space-day-2025/
X-WR-CALDESC:Report on National Space Day 2025
BEGIN:VEVENT
DTSTART:
DTEND:
SUMMARY:Report on National Space Day 2025
DESCRIPTION:Report on National Space Day 2025
LOCATION:
END:VEVENT
END:VCALENDAR
