BEGIN:VCALENDAR
VERSION:2.0
PRODID:-//Geethanjali
CALSCALE:GREGORIAN
METHOD:PUBLISH
X-WR-CALNAME:Geethanjali
X-ORIGINAL-URL:https://gist.edu.in/gist/event/report-of-seminar-on-the-future-of-ai/
X-WR-CALDESC:Report of Seminar on “The Future of AI”
BEGIN:VEVENT
DTSTART:
DTEND:
SUMMARY:Report of Seminar on “The Future of AI”
DESCRIPTION:Report of Seminar on “The Future of AI”
LOCATION:
END:VEVENT
END:VCALENDAR
