BEGIN:VCALENDAR
VERSION:2.0
PRODID:-//Geethanjali
CALSCALE:GREGORIAN
METHOD:PUBLISH
X-WR-CALNAME:Geethanjali
X-ORIGINAL-URL:https://gist.edu.in/gist/event/report-on-7th-national-conference-on-innovative-technologies-in-electrical-engineering-ncitee-2k25/
X-WR-CALDESC:Report on 7th National Conference on Innovative Technologies in Electrical Engineering (NCITEE-2K25)
BEGIN:VEVENT
DTSTART:
DTEND:
SUMMARY:Report on 7th National Conference on Innovative Technologies in Electrical Engineering (NCITEE-2K25)
DESCRIPTION:Report on 7th National Conference on Innovative Technologies in Electrical Engineering (NCITEE-2K25)
LOCATION:
END:VEVENT
END:VCALENDAR
