BEGIN:VCALENDAR
VERSION:2.0
PRODID:-//Geethanjali
CALSCALE:GREGORIAN
METHOD:PUBLISH
X-WR-CALNAME:Geethanjali
X-ORIGINAL-URL:https://gist.edu.in/gist/event/international-conference-on-latest-trends-in-electronics-communication-and-ai-technologies/
X-WR-CALDESC:International Conference on Latest Trends in Electronics Communication and AI Technologies
BEGIN:VEVENT
DTSTART:
DTEND:
SUMMARY:International Conference on Latest Trends in Electronics Communication and AI Technologies
DESCRIPTION:International Conference on Latest Trends in Electronics Communication and AI Technologies
LOCATION:
END:VEVENT
END:VCALENDAR
