BEGIN:VCALENDAR
VERSION:2.0
PRODID:-//Geethanjali
CALSCALE:GREGORIAN
METHOD:PUBLISH
X-WR-CALNAME:Geethanjali
X-ORIGINAL-URL:https://gist.edu.in/gist/event/techsaksham-program-on-ir-4-0-foundation-course/
X-WR-CALDESC:Techsaksham Program on “IR-4.0 Foundation Course
BEGIN:VEVENT
DTSTART:
DTEND:
SUMMARY:Techsaksham Program on “IR-4.0 Foundation Course
DESCRIPTION:Techsaksham Program on “IR-4.0 Foundation Course
LOCATION:
END:VEVENT
END:VCALENDAR
