BEGIN:VCALENDAR
VERSION:2.0
PRODID:-//Geethanjali
CALSCALE:GREGORIAN
METHOD:PUBLISH
X-WR-CALNAME:Geethanjali
X-ORIGINAL-URL:https://gist.edu.in/gist/event/a-report-on-ieee-outreach-programme-on-biosensorspresent-and-future-trends/
X-WR-CALDESC: A  Report On IEEE Outreach programme  on “Biosensors:Present and Future Trends”
BEGIN:VEVENT
DTSTART:
DTEND:
SUMMARY: A  Report On IEEE Outreach programme  on “Biosensors:Present and Future Trends”
DESCRIPTION: A  Report On IEEE Outreach programme  on “Biosensors:Present and Future Trends”
LOCATION:
END:VEVENT
END:VCALENDAR
