BEGIN:VCALENDAR
VERSION:2.0
PRODID:-//Geethanjali
CALSCALE:GREGORIAN
METHOD:PUBLISH
X-WR-CALNAME:Geethanjali
X-ORIGINAL-URL:https://gist.edu.in/gist/event/a-report-on-guest-lecture-on-training-on-quality-circles/
X-WR-CALDESC:A  Report On Guest Lecture on “Training on Quality circles”
BEGIN:VEVENT
DTSTART:
DTEND:
SUMMARY:A  Report On Guest Lecture on “Training on Quality circles”
DESCRIPTION:A  Report On Guest Lecture on “Training on Quality circles”
LOCATION:
END:VEVENT
END:VCALENDAR
