BEGIN:VCALENDAR
VERSION:2.0
PRODID:-//Geethanjali
CALSCALE:GREGORIAN
METHOD:PUBLISH
X-WR-CALNAME:Geethanjali
X-ORIGINAL-URL:https://gist.edu.in/gist/event/a-report-on-industrial-visit-to-nelcastgudur/
X-WR-CALDESC:A  Report On Industrial Visit To NELCAST:Gudur.
BEGIN:VEVENT
DTSTART:
DTEND:
SUMMARY:A  Report On Industrial Visit To NELCAST:Gudur.
DESCRIPTION:A  Report On Industrial Visit To NELCAST:Gudur.
LOCATION:
END:VEVENT
END:VCALENDAR
