BEGIN:VCALENDAR
VERSION:2.0
PRODID:-//Geethanjali
CALSCALE:GREGORIAN
METHOD:PUBLISH
X-WR-CALNAME:Geethanjali
X-ORIGINAL-URL:https://gist.edu.in/gist/event/national-science-day-celebrations-held-at-gist-on-28-02-2025/
X-WR-CALDESC:NATIONAL SCIENCE DAY CELEBRATIONS HELD AT GIST ON 28.02.2025
BEGIN:VEVENT
DTSTART:
DTEND:
SUMMARY:NATIONAL SCIENCE DAY CELEBRATIONS HELD AT GIST ON 28.02.2025
DESCRIPTION:NATIONAL SCIENCE DAY CELEBRATIONS HELD AT GIST ON 28.02.2025
LOCATION:
END:VEVENT
END:VCALENDAR
