BEGIN:VCALENDAR
VERSION:2.0
PRODID:-//Geethanjali
CALSCALE:GREGORIAN
METHOD:PUBLISH
X-WR-CALNAME:Geethanjali
X-ORIGINAL-URL:https://gist.edu.in/gist/event/national-mathematics-day-celebrated-on-a-grand-scale/
X-WR-CALDESC:National Mathematics Day Celebrated on a Grand Scale
BEGIN:VEVENT
DTSTART:
DTEND:
SUMMARY:National Mathematics Day Celebrated on a Grand Scale
DESCRIPTION:National Mathematics Day Celebrated on a Grand Scale
LOCATION:
END:VEVENT
END:VCALENDAR
