BEGIN:VCALENDAR
VERSION:2.0
PRODID:-//Geethanjali
CALSCALE:GREGORIAN
METHOD:PUBLISH
X-WR-CALNAME:Geethanjali
X-ORIGINAL-URL:https://gist.edu.in/gist/event/a-report-on-one-week-workshop-on-printed-circuit-boards/
X-WR-CALDESC:A Report On “One Week Workshop on “Printed Circuit Boards”
BEGIN:VEVENT
DTSTART:
DTEND:
SUMMARY:A Report On “One Week Workshop on “Printed Circuit Boards”
DESCRIPTION:A Report On “One Week Workshop on “Printed Circuit Boards”
LOCATION:
END:VEVENT
END:VCALENDAR
