BEGIN:VCALENDAR
VERSION:2.0
PRODID:-//Geethanjali
CALSCALE:GREGORIAN
METHOD:PUBLISH
X-WR-CALNAME:Geethanjali
X-ORIGINAL-URL:https://gist.edu.in/gist/event/a-one-week-workshop-on-revit-architecture-using-bim-software/
X-WR-CALDESC:A ONE WEEK  WORKSHOP ON “REVIT ARCHITECTURE USING BIM” SOFTWARE
BEGIN:VEVENT
DTSTART:
DTEND:
SUMMARY:A ONE WEEK  WORKSHOP ON “REVIT ARCHITECTURE USING BIM” SOFTWARE
DESCRIPTION:A ONE WEEK  WORKSHOP ON “REVIT ARCHITECTURE USING BIM” SOFTWARE
LOCATION:
END:VEVENT
END:VCALENDAR
