BEGIN:VCALENDAR
VERSION:2.0
PRODID:-//Geethanjali
CALSCALE:GREGORIAN
METHOD:PUBLISH
X-WR-CALNAME:Geethanjali
X-ORIGINAL-URL:https://gist.edu.in/gist/event/field-visit-for-the-ii-iii-b-tech-students-of-civil/
X-WR-CALDESC:Field Visit for the II &#038; III B.Tech Students of Civil 
BEGIN:VEVENT
DTSTART:
DTEND:
SUMMARY:Field Visit for the II &#038; III B.Tech Students of Civil 
DESCRIPTION:Field Visit for the II & III B.Tech Students of Civil 
LOCATION:
END:VEVENT
END:VCALENDAR
