BEGIN:VCALENDAR
VERSION:2.0
PRODID:-//Geethanjali
CALSCALE:GREGORIAN
METHOD:PUBLISH
X-WR-CALNAME:Geethanjali
X-ORIGINAL-URL:https://gist.edu.in/gist/event/a-report-on-industria-visit-to-sds-thermal-power-stationnellore/
X-WR-CALDESC: A  Report On Industria Visit To AdaniKrishnapatnam Port Company Ltd:Nellore
BEGIN:VEVENT
DTSTART:
DTEND:
SUMMARY: A  Report On Industria Visit To AdaniKrishnapatnam Port Company Ltd:Nellore
DESCRIPTION:A  Report On Industria Visit To SDS Thermal Power Station::Nellore
LOCATION:
END:VEVENT
END:VCALENDAR
