BEGIN:VCALENDAR
VERSION:2.0
PRODID:-//Geethanjali
CALSCALE:GREGORIAN
METHOD:PUBLISH
X-WR-CALNAME:Geethanjali
X-ORIGINAL-URL:https://gist.edu.in/gist/event/apssdc-one-week-workshop-on-building-drafting-using-autocad-software-5/
X-WR-CALDESC:APSSDC ONE WEEK  WORKSHOP ON “BUILDING DRAFTING USING AUTOCAD” SOFTWARE
BEGIN:VEVENT
DTSTART:
DTEND:
SUMMARY:APSSDC ONE WEEK  WORKSHOP ON “BUILDING DRAFTING USING AUTOCAD” SOFTWARE
DESCRIPTION:APSSDC ONE WEEK  WORKSHOP ON “BUILDING DRAFTING USING AUTOCAD” SOFTWARE
LOCATION:
END:VEVENT
END:VCALENDAR
