BEGIN:VCALENDAR
VERSION:2.0
PRODID:-//Geethanjali
CALSCALE:GREGORIAN
METHOD:PUBLISH
X-WR-CALNAME:Geethanjali
X-ORIGINAL-URL:https://gist.edu.in/gist/event/field-visit-for-the-iii-b-tech-students-of-civil-on-21-10-2022-22-10-2022/
X-WR-CALDESC:Field Visit for the III B.Tech Students of Civil on 21-10-2022 &#038; 22-10-2022
BEGIN:VEVENT
DTSTART:
DTEND:
SUMMARY:Field Visit for the III B.Tech Students of Civil on 21-10-2022 &#038; 22-10-2022
DESCRIPTION:Field Visit for the III B.Tech Students of Civil on 21-10-2022 & 22-10-2022
LOCATION:
END:VEVENT
END:VCALENDAR
