BEGIN:VCALENDAR
VERSION:2.0
PRODID:-//Geethanjali
CALSCALE:GREGORIAN
METHOD:PUBLISH
X-WR-CALNAME:Geethanjali
X-ORIGINAL-URL:https://gist.edu.in/gist/event/a-six-day-workshop-on-aws-cloud-computing/
X-WR-CALDESC:A Six-Day Workshop  on  “AWS Cloud Computing”
BEGIN:VEVENT
DTSTART:
DTEND:
SUMMARY:A Six-Day Workshop  on  “AWS Cloud Computing”
DESCRIPTION:A Six-Day Workshop  on  “AWS Cloud Computing”
LOCATION:
END:VEVENT
END:VCALENDAR
